BEGIN:VCALENDAR
VERSION:2.0
PRODID:spatie/icalendar-generator
DESCRIPTION:Events from Dragon Designs Cymru
X-WR-CALDESC:Events from Dragon Designs Cymru
REFRESH-INTERVAL;VALUE=DURATION:PT1440M
X-PUBLISHED-TTL:PT1440M
BEGIN:VTIMEZONE
TZID:Etc/GMT-1
BEGIN:STANDARD
DTSTART:20250708T100000Z
TZOFFSETFROM:+0100
TZOFFSETTO:+0100
END:STANDARD
END:VTIMEZONE
BEGIN:VTIMEZONE
TZID:UTC
BEGIN:STANDARD
DTSTART:20250724T131256Z
TZOFFSETFROM:+0000
TZOFFSETTO:+0000
END:STANDARD
END:VTIMEZONE
BEGIN:VEVENT
UID:17-16
DTSTAMP:20260420T131256Z
SUMMARY:Griffin Park Saturday Market
LOCATION:Griffin Park Community Centre New Road  Porthcawl  CF36 5DN
ORGANIZER;CN=Dawn:MAILTO:dawn@dragondesignscymru.co.uk
DTSTART;TZID=Etc/GMT-1:20260404T100000
DTEND;TZID=Etc/GMT-1:20260404T140000
X-ALT-DESC;FMTTYPE=TEXT/HTML:Griffin Park Community Centre hosts a saturday
  Market on the first Saturday of each month. Dragon Designs Cymru will be 
 attending their first event on Saturday 4th April and will have lots of ha
 nd crafted items for you to choose from.
CATEGORIES:General
URL;VALUE=URI:https://dragondesignscymru.co.uk/mc-events/griffin-park-satur
 day-market/
METHOD:PUBLISH
END:VEVENT
END:VCALENDAR