BEGIN:VCALENDAR
VERSION:2.0
PRODID:spatie/icalendar-generator
DESCRIPTION:Events from Dragon Designs Cymru
X-WR-CALDESC:Events from Dragon Designs Cymru
REFRESH-INTERVAL;VALUE=DURATION:PT1440M
X-PUBLISHED-TTL:PT1440M
BEGIN:VTIMEZONE
TZID:Etc/GMT-1
BEGIN:STANDARD
DTSTART:20260127T100000Z
TZOFFSETFROM:+0100
TZOFFSETTO:+0100
END:STANDARD
END:VTIMEZONE
BEGIN:VTIMEZONE
TZID:UTC
BEGIN:STANDARD
DTSTART:20250724T145438Z
TZOFFSETFROM:+0000
TZOFFSETTO:+0000
END:STANDARD
END:VTIMEZONE
BEGIN:VEVENT
UID:13-12
DTSTAMP:20260420T145438Z
SUMMARY:Penarth Pier Pavilion Craft Fair
LOCATION:Penarth Pier Pavilion The Esplanade  Penarth  CF64 3AU
ORGANIZER;CN=Dawn:MAILTO:dawn@dragondesignscymru.co.uk
DTSTART;TZID=Etc/GMT-1:20261024T100000
DTEND;TZID=Etc/GMT-1:20261025T160000
X-ALT-DESC;FMTTYPE=TEXT/HTML:Artisan and craft fair in the beautiful Penart
 h Pier Pavilion. Open 1000 - 1600 on both days. Directions: Penarth Pier P
 avilion
CATEGORIES:General
URL;VALUE=URI:https://dragondesignscymru.co.uk/mc-events/penarth-pier-pavil
 ion-craft-fair-5/
METHOD:PUBLISH
END:VEVENT
END:VCALENDAR