BEGIN:VCALENDAR
VERSION:2.0
PRODID:spatie/icalendar-generator
DESCRIPTION:Events from Dragon Designs Cymru
X-WR-CALDESC:Events from Dragon Designs Cymru
REFRESH-INTERVAL;VALUE=DURATION:PT1440M
X-PUBLISHED-TTL:PT1440M
BEGIN:VTIMEZONE
TZID:Etc/GMT-1
BEGIN:STANDARD
DTSTART:20250520T100000Z
TZOFFSETFROM:+0100
TZOFFSETTO:+0100
END:STANDARD
END:VTIMEZONE
BEGIN:VTIMEZONE
TZID:UTC
BEGIN:STANDARD
DTSTART:20250724T162043Z
TZOFFSETFROM:+0000
TZOFFSETTO:+0000
END:STANDARD
END:VTIMEZONE
BEGIN:VEVENT
UID:2-2
DTSTAMP:20260420T162043Z
SUMMARY:St Fagans Makers Market
LOCATION:St Fagans Museum of welsh Life
ORGANIZER;CN=Dawn:MAILTO:dawn@dragondesignscymru.co.uk
DTSTART;TZID=Etc/GMT-1:20260214T100000
DTEND;TZID=Etc/GMT-1:20260214T160000
X-ALT-DESC;FMTTYPE=TEXT/HTML:Dragon Designs Cymru will be attending the Hal
 f Term Makers' Market at St Fagans on saturday 14th February. we will be b
 ringing our usual stock of crocheted\, knitted and sewn stock along with s
 ome exciting new stock of crocheted and sewn handbags. All of our items ar
 e individually handmade by Dawn. With a great mix&amp;hellip\;
CATEGORIES:General
URL;VALUE=URI:https://dragondesignscymru.co.uk/mc-events/st-fagans-makers-m
 arket/
METHOD:PUBLISH
END:VEVENT
END:VCALENDAR